BEGIN:VCALENDAR
VERSION:2.0
PRODID:-//Tukios.com/
BEGIN:VEVENT
UID:da7dd01b-9909-4da6-88d4-83fa7bd88084@www.stockhamfamily.com
DTSTAMP:20260423T202235Z
DTSTART:20260507T200000Z
DTEND:20260507T210000Z
SUMMARY:Memorial Service
DESCRIPTION:
URL:https://www.stockhamfamily.com/obituaries/verla-charly-allenbach
LOCATION: 205 North Chestnut St.  McPherson KS 67460
GEO:38.3706788;-97.6713645
END:VEVENT
END:VCALENDAR