BEGIN:VCALENDAR
VERSION:2.0
PRODID:-//Tukios.com/
BEGIN:VEVENT
UID:ae08f36e-43b2-43b8-8753-0382e09ac3b8@www.stockhamfamily.com
DTSTAMP:20260423T011304Z
DTSTART:20260427T170000Z
DTEND:20260427T180000Z
SUMMARY:Graveside Service
DESCRIPTION:
URL:https://www.stockhamfamily.com/obituaries/katherine-braden
LOCATION:White Chapel Memorial Gardens 1806 N Oliver St  Wichita KS 67208
GEO:37.717673;-97.2754016
END:VEVENT
END:VCALENDAR