BEGIN:VCALENDAR
VERSION:2.0
PRODID:-//Tukios.com/
BEGIN:VEVENT
UID:e268ad96-9a33-45bb-a7b5-cb70ce3a1e60@www.stockhamfamily.com
DTSTAMP:20260423T010553Z
DTSTART:20260426T190000Z
DTEND:20260426T210000Z
SUMMARY:Visitation & Viewing
DESCRIPTION:
URL:https://www.stockhamfamily.com/obituaries/katherine-braden
LOCATION: 205 North Chestnut St.  McPherson KS 67460
GEO:38.3706788;-97.6713645
END:VEVENT
END:VCALENDAR